BEGIN:VCALENDAR
VERSION:2.0
PRODID:-//Technical College of the Lowcountry - ECPv6.15.17//NONSGML v1.0//EN
CALSCALE:GREGORIAN
METHOD:PUBLISH
X-ORIGINAL-URL:https://tcl.staging.wp.collegeinbound.com
X-WR-CALDESC:Events for Technical College of the Lowcountry
REFRESH-INTERVAL;VALUE=DURATION:PT1H
X-Robots-Tag:noindex
X-PUBLISHED-TTL:PT1H
BEGIN:VTIMEZONE
TZID:UTC
BEGIN:STANDARD
TZOFFSETFROM:+0000
TZOFFSETTO:+0000
TZNAME:UTC
DTSTART:19690101T000000
END:STANDARD
END:VTIMEZONE
BEGIN:VEVENT
DTSTART;TZID=UTC:20211118T120000
DTEND;TZID=UTC:20211118T130000
DTSTAMP:20260424T094743
CREATED:20240913T163326Z
LAST-MODIFIED:20240913T163334Z
UID:10000761-1637236800-1637240400@tcl.staging.wp.collegeinbound.com
SUMMARY:Board Gaming Social Club
DESCRIPTION:Join the Board Gaming Social Club in the Student Center\, Building 12 every Thursday at noon.
URL:https://tcl.staging.wp.collegeinbound.com/event/board-gaming-social-club-7/
ATTACH;FMTTYPE=image/png:https://tcl.staging.wp.collegeinbound.com/wp-content/uploads/board-game-image-insta-UrDQ2b.tmp_.png
END:VEVENT
BEGIN:VEVENT
DTSTART;TZID=UTC:20211111T120000
DTEND;TZID=UTC:20211111T130000
DTSTAMP:20260424T094743
CREATED:20240913T163325Z
LAST-MODIFIED:20240913T163332Z
UID:10000760-1636632000-1636635600@tcl.staging.wp.collegeinbound.com
SUMMARY:Board Gaming Social Club
DESCRIPTION:Join the Board Gaming Social Club in the Student Center\, Building 12 every Thursday at noon.
URL:https://tcl.staging.wp.collegeinbound.com/event/board-gaming-social-club-6/
ATTACH;FMTTYPE=image/png:https://tcl.staging.wp.collegeinbound.com/wp-content/uploads/board-game-image-insta-UrDQ2b.tmp_.png
END:VEVENT
BEGIN:VEVENT
DTSTART;TZID=UTC:20211104T120000
DTEND;TZID=UTC:20211104T130000
DTSTAMP:20260424T094743
CREATED:20240913T163324Z
LAST-MODIFIED:20240913T163331Z
UID:10000759-1636027200-1636030800@tcl.staging.wp.collegeinbound.com
SUMMARY:Board Gaming Social Club
DESCRIPTION:Join the Board Gaming Social Club in the Student Center\, Building 12 every Thursday at noon.
URL:https://tcl.staging.wp.collegeinbound.com/event/board-gaming-social-club-5/
ATTACH;FMTTYPE=image/png:https://tcl.staging.wp.collegeinbound.com/wp-content/uploads/board-game-image-insta-UrDQ2b.tmp_.png
END:VEVENT
BEGIN:VEVENT
DTSTART;TZID=UTC:20211028T120000
DTEND;TZID=UTC:20211028T130000
DTSTAMP:20260424T094743
CREATED:20240913T163323Z
LAST-MODIFIED:20240913T163330Z
UID:10000758-1635422400-1635426000@tcl.staging.wp.collegeinbound.com
SUMMARY:Board Gaming Social Club
DESCRIPTION:Join the Board Gaming Social Club in the Student Center\, Building 12 every Thursday at noon.
URL:https://tcl.staging.wp.collegeinbound.com/event/board-gaming-social-club-4/
ATTACH;FMTTYPE=image/png:https://tcl.staging.wp.collegeinbound.com/wp-content/uploads/board-game-image-insta-UrDQ2b.tmp_.png
END:VEVENT
BEGIN:VEVENT
DTSTART;TZID=UTC:20211021T120000
DTEND;TZID=UTC:20211021T130000
DTSTAMP:20260424T094743
CREATED:20240913T163322Z
LAST-MODIFIED:20240913T163329Z
UID:10000757-1634817600-1634821200@tcl.staging.wp.collegeinbound.com
SUMMARY:Board Gaming Social Club
DESCRIPTION:Join the Board Gaming Social Club in the Student Center\, Building 12 every Thursday at noon.
URL:https://tcl.staging.wp.collegeinbound.com/event/board-gaming-social-club-3/
ATTACH;FMTTYPE=image/png:https://tcl.staging.wp.collegeinbound.com/wp-content/uploads/board-game-image-insta-UrDQ2b.tmp_.png
END:VEVENT
BEGIN:VEVENT
DTSTART;TZID=UTC:20211014T120000
DTEND;TZID=UTC:20211014T130000
DTSTAMP:20260424T094743
CREATED:20210909T223551Z
LAST-MODIFIED:20240913T163314Z
UID:10000756-1634212800-1634216400@tcl.staging.wp.collegeinbound.com
SUMMARY:Board Gaming Social Club
DESCRIPTION:Join the Board Gaming Social Club in the Student Center\, Building 12 every Thursday at noon.
URL:https://tcl.staging.wp.collegeinbound.com/event/board-gaming-social-club-2021-10-14/
LOCATION:Beaufort Mather Campus\, 921 Ribaut Road Beaufort SC 29901 United States\, Beaufort\, United States\, 29901\, United States
ATTACH;FMTTYPE=image/png:https://tcl.staging.wp.collegeinbound.com/wp-content/uploads/board-game-image-insta-b86E7T.tmp_.png
END:VEVENT
BEGIN:VEVENT
DTSTART;TZID=UTC:20211007T120000
DTEND;TZID=UTC:20211007T130000
DTSTAMP:20260424T094743
CREATED:20210909T223551Z
LAST-MODIFIED:20240913T163313Z
UID:10000755-1633608000-1633611600@tcl.staging.wp.collegeinbound.com
SUMMARY:Board Gaming Social Club
DESCRIPTION:Join the Board Gaming Social Club in the Student Center\, Building 12 every Thursday at noon.
URL:https://tcl.staging.wp.collegeinbound.com/event/board-gaming-social-club-2021-10-07/
LOCATION:Beaufort Mather Campus\, 921 Ribaut Road Beaufort SC 29901 United States\, Beaufort\, United States\, 29901\, United States
ATTACH;FMTTYPE=image/png:https://tcl.staging.wp.collegeinbound.com/wp-content/uploads/board-game-image-insta-nvDybJ.tmp_.png
END:VEVENT
BEGIN:VEVENT
DTSTART;TZID=UTC:20210930T120000
DTEND;TZID=UTC:20210930T130000
DTSTAMP:20260424T094743
CREATED:20210909T223551Z
LAST-MODIFIED:20240913T163312Z
UID:10000754-1633003200-1633006800@tcl.staging.wp.collegeinbound.com
SUMMARY:Board Gaming Social Club
DESCRIPTION:Join the Board Gaming Social Club in the Student Center\, Building 12 every Thursday at noon.
URL:https://tcl.staging.wp.collegeinbound.com/event/board-gaming-social-club-2021-09-30/
LOCATION:Beaufort Mather Campus\, 921 Ribaut Road Beaufort SC 29901 United States\, Beaufort\, United States\, 29901\, United States
ATTACH;FMTTYPE=image/png:https://tcl.staging.wp.collegeinbound.com/wp-content/uploads/board-game-image-insta-UrDQ2b.tmp_.png
END:VEVENT
BEGIN:VEVENT
DTSTART;TZID=UTC:20210923T120000
DTEND;TZID=UTC:20210923T130000
DTSTAMP:20260424T094743
CREATED:20210909T223551Z
LAST-MODIFIED:20240913T163310Z
UID:10000753-1632398400-1632402000@tcl.staging.wp.collegeinbound.com
SUMMARY:Board Gaming Social Club
DESCRIPTION:Join the Board Gaming Social Club in the Student Center\, Building 12 every Thursday at noon.
URL:https://tcl.staging.wp.collegeinbound.com/event/board-gaming-social-club-2021-09-23-2/
LOCATION:Beaufort Mather Campus\, 921 Ribaut Road Beaufort SC 29901 United States\, Beaufort\, United States\, 29901\, United States
ATTACH;FMTTYPE=image/png:https://tcl.staging.wp.collegeinbound.com/wp-content/uploads/board-game-image-insta-b86E7T.tmp_.png
END:VEVENT
BEGIN:VEVENT
DTSTART;TZID=UTC:20210916T120000
DTEND;TZID=UTC:20210916T130000
DTSTAMP:20260424T094743
CREATED:20210909T223551Z
LAST-MODIFIED:20241007T203248Z
UID:10001197-1631793600-1631797200@tcl.staging.wp.collegeinbound.com
SUMMARY:Board Gaming Social Club
DESCRIPTION:Join the Board Gaming Social Club in the Student Center\, Building 12 every Thursday at noon.
URL:https://tcl.staging.wp.collegeinbound.com/event/board-gaming-social-club-10/2021-09-16/
LOCATION:Beaufort Mather Campus\, 921 Ribaut Road Beaufort SC 29901 United States\, Beaufort\, United States\, 29901\, United States
ATTACH;FMTTYPE=image/png:https://tcl.staging.wp.collegeinbound.com/wp-content/uploads/board-gaming-social-club-1.png
END:VEVENT
BEGIN:VEVENT
DTSTART;TZID=UTC:20210916T120000
DTEND;TZID=UTC:20210916T130000
DTSTAMP:20260424T094743
CREATED:20210909T223551Z
LAST-MODIFIED:20240913T162832Z
UID:10000751-1631793600-1631797200@tcl.staging.wp.collegeinbound.com
SUMMARY:Board Gaming Social Club
DESCRIPTION:Join the Board Gaming Social Club in the Student Center\, Building 12 every Thursday at noon.
URL:https://tcl.staging.wp.collegeinbound.com/event/board-gaming-social-club/2021-09-16/
LOCATION:Beaufort Mather Campus\, 921 Ribaut Road Beaufort SC 29901 United States\, Beaufort\, United States\, 29901\, United States
ATTACH;FMTTYPE=image/png:https://tcl.staging.wp.collegeinbound.com/wp-content/uploads/board-gaming-social-club-1.png
END:VEVENT
BEGIN:VEVENT
DTSTART;TZID=UTC:20210916T120000
DTEND;TZID=UTC:20210916T130000
DTSTAMP:20260424T094743
CREATED:20210909T223551Z
LAST-MODIFIED:20240913T163309Z
UID:10000752-1631793600-1631797200@tcl.staging.wp.collegeinbound.com
SUMMARY:Board Gaming Social Club
DESCRIPTION:Join the Board Gaming Social Club in the Student Center\, Building 12 every Thursday at noon.
URL:https://tcl.staging.wp.collegeinbound.com/event/board-gaming-social-club-2/2021-09-16/
LOCATION:Beaufort Mather Campus\, 921 Ribaut Road Beaufort SC 29901 United States\, Beaufort\, United States\, 29901\, United States
ATTACH;FMTTYPE=image/png:https://tcl.staging.wp.collegeinbound.com/wp-content/uploads/board-game-image-insta-nvDybJ.tmp_.png
END:VEVENT
BEGIN:VEVENT
DTSTART;TZID=UTC:20260424T094743
DTEND;TZID=UTC:20260424T094743
DTSTAMP:20260424T094743
CREATED:20241007T210010Z
LAST-MODIFIED:20241007T210010Z
UID:10001277-0-0@tcl.staging.wp.collegeinbound.com
SUMMARY:Jasper Workforce Career Fair
DESCRIPTION:Please join us for a Jasper Workforce Career Fair! \nYour Next Career Starts Here! \nCome Prepared: Dress to impress and bring a copy of your resume. For FREE resume assistance call SC Works: (843) 524-3351 \nGet Connected: Meet multiple employers from a variety of industries. Learn more about resources in your community and how to enroll for trainings. \nFriday\, September 6\, 2024\n11am–2pm \nPalmetto Electric Cooperative\n4063 Grays Hwy\nRidgeland\, SC 29936 \nStep Wright: 843-816-4709
URL:https://tcl.staging.wp.collegeinbound.com/event/jasper-workforce-career-fair/
END:VEVENT
BEGIN:VEVENT
DTSTART;TZID=UTC:20260424T094743
DTEND;TZID=UTC:20260424T094743
DTSTAMP:20260424T094743
CREATED:20241007T210010Z
LAST-MODIFIED:20241007T210010Z
UID:10001278-0-0@tcl.staging.wp.collegeinbound.com
SUMMARY:Coffee with the Dean of Health Sciences - Beaufort Campus
DESCRIPTION:Are you currently taking pre-requisites for one of TCL’s health sciences programs? If so\, please RSVP to join Dr. Joey Swearingen\, the Health Sciences Dean\, for a cup of coffee while learning more about the massage therapy\, medical assisting\, nursing\, physical therapist assistant\, radiologic technology and surgical technology programs and their unique application processes and what to expect. Plus\, you’ll also be able to schedule your advising appointment if you need to. \nTues.\, Oct. 15\n8:30 – 11 a.m.\nBeaufort Mather Campus\, Bldg. 12 Student Center\nRSVP HERE \n  \n 
URL:https://tcl.staging.wp.collegeinbound.com/event/coffee-with-the-dean-of-health-sciences-beaufort-campus/
END:VEVENT
BEGIN:VEVENT
DTSTART;TZID=UTC:20260424T094743
DTEND;TZID=UTC:20260424T094743
DTSTAMP:20260424T094743
CREATED:20241007T210010Z
LAST-MODIFIED:20241007T210010Z
UID:10001279-0-0@tcl.staging.wp.collegeinbound.com
SUMMARY:Coffee with the Dean of Health Sciences - New River Campus
DESCRIPTION:Are you currently taking pre-requisites for one of TCL’s health sciences programs? If so\, please RSVP to join Dr. Joey Swearingen\, the Health Sciences Dean\, for a cup of coffee while learning more about the massage therapy\, medical assisting\, nursing\, physical therapist assistant\, radiologic technology and surgical technology programs and their unique application processes and what to expect. Plus\, you’ll also be able to schedule your advising appointment if you need to. \n8:30 – 11 a.m.\nWednesday\, Oct. 16\nNew River Campus\, Conference Room \nRSVP HERE
URL:https://tcl.staging.wp.collegeinbound.com/event/coffee-with-the-dean-of-health-sciences-new-river-campus/
END:VEVENT
BEGIN:VEVENT
DTSTART;TZID=UTC:20260424T094743
DTEND;TZID=UTC:20260424T094743
DTSTAMP:20260424T094743
CREATED:20241007T210010Z
LAST-MODIFIED:20241007T210010Z
UID:10001280-0-0@tcl.staging.wp.collegeinbound.com
SUMMARY:Mather Interpretive Center Annual Meeting
DESCRIPTION:The Mather Interpretive Center will hold its annual meeting in the center’s Gallery Room. \n10 a.m. \nThursday\, Nov. 14 \n921 Ribaut Road – Bldg. 1 \nBeaufort\, SC 29902 \n  \n  \n  \n 
URL:https://tcl.staging.wp.collegeinbound.com/event/mather-interpretive-center-annual-meeting/
END:VEVENT
BEGIN:VEVENT
DTSTART;TZID=UTC:20260424T094743
DTEND;TZID=UTC:20260424T094743
DTSTAMP:20260424T094743
CREATED:20241007T205950Z
LAST-MODIFIED:20241007T205950Z
UID:10001274-0-0@tcl.staging.wp.collegeinbound.com
SUMMARY:Welcome Week Pop Up—Hampton
DESCRIPTION:Pop on by for some popcorn\, and chat with staff and TCL Student Ambassadors to get to know more about your TCL campus! Campus tours will also be offered. \n11 a.m. to 1 p.m.\, Mon.\, Aug. 19\nBldg. 12 Student Center Patio\,\nBeaufort Mather Campus \n11 a.m. to 1 p.m.\, Tues.\, Aug. 20\nNew River Campus Lobby \n11 a.m. to 1 p.m.\, Wed.\, Aug. 21\nCulinary Institute of the South Lobby \n9:30 a.m. to Noon\, Thurs.\, Aug. 22\nHampton Campus Lobby \nLearn More About: \n\nFederal Work Study\nTCL Wellness Programs\nMilitary & Veterans Resources\nThe College Store\nTutoring & More!\n\n  \nQuestions? Contact Bree Cromer\nat 843.525.8312 or bcromer@tcl.edu
URL:https://tcl.staging.wp.collegeinbound.com/event/welcome-week-pop-up-hampton-2/
END:VEVENT
BEGIN:VEVENT
DTSTART;TZID=UTC:20260424T094743
DTEND;TZID=UTC:20260424T094743
DTSTAMP:20260424T094743
CREATED:20241007T205950Z
LAST-MODIFIED:20241007T205950Z
UID:10001276-0-0@tcl.staging.wp.collegeinbound.com
SUMMARY:Hampton Regional Community Health Fair
DESCRIPTION:Join us for the Hampton Regional Community Health Fair. \nWednesday\, Nov. 13\n10 a.m. – 1 p.m. \nFeaturing community resources for all ages: \n\nHealth Screenings\nExhibitors\nPrizes\nMeal Planning\nExercise Demos\nPhysical Strength Assessments\nFlu and Covid Vaccines\nLunch provided\n\nVendor registration available on a first-come first-served basis. \nOpen Arms Fellowship\n402 Hoover St. N.\nHampton\, SC \nFree for all ages. Open to the public.
URL:https://tcl.staging.wp.collegeinbound.com/event/hampton-regional-community-health-fair-2/
END:VEVENT
BEGIN:VEVENT
DTSTART;TZID=UTC:20260424T094743
DTEND;TZID=UTC:20260424T094743
DTSTAMP:20260424T094743
CREATED:20241007T205935Z
LAST-MODIFIED:20241007T205935Z
UID:10001269-0-0@tcl.staging.wp.collegeinbound.com
SUMMARY:Massage Therapy Program Pinning Ceremony
DESCRIPTION:You are cordially invited to the\nTechnical College of the Lowcountry \nMassage Therapy Program\nPinning Ceremony \n3 p.m.\, Thursday\, July 25\, 2024 \nMacLean Hall Auditorium\nTCL Beaufort Mather Campus\n921 Ribaut Road\nBeaufort\, South Carolina
URL:https://tcl.staging.wp.collegeinbound.com/event/massage-therapy-program-pinning-ceremony-2/
END:VEVENT
BEGIN:VEVENT
DTSTART;TZID=UTC:20260424T094743
DTEND;TZID=UTC:20260424T094743
DTSTAMP:20260424T094743
CREATED:20241007T205935Z
LAST-MODIFIED:20241007T205935Z
UID:10001270-0-0@tcl.staging.wp.collegeinbound.com
SUMMARY:Medical Assisting Program Pinning Ceremony
DESCRIPTION:You are cordially invited to\nTechnical College of the Lowcountry \nMedical Assisting Program\nPinning Ceremony \n10 a.m.\, Friday\, July 26\, 2024 \nNew River Campus\n100 Community College Drive\nBluffton\, South Carolina 29909
URL:https://tcl.staging.wp.collegeinbound.com/event/medical-assisting-program-pinning-ceremony-2/
END:VEVENT
BEGIN:VEVENT
DTSTART;TZID=UTC:20260424T094743
DTEND;TZID=UTC:20260424T094743
DTSTAMP:20260424T094743
CREATED:20241007T205935Z
LAST-MODIFIED:20241007T205935Z
UID:10001271-0-0@tcl.staging.wp.collegeinbound.com
SUMMARY:Welcome Week Pop Up—Beaufort
DESCRIPTION:Pop on by for some popcorn\, and chat with staff and TCL Student Ambassadors to get to know more about your TCL campus! Campus tours will also be offered. \n11 a.m. to 1 p.m.\, Mon.\, Aug. 19\nBldg. 12 Student Center Patio\,\nBeaufort Mather Campus \n11 a.m. to 1 p.m.\, Tues.\, Aug. 20\nNew River Campus Lobby \n11 a.m. to 1 p.m.\, Wed.\, Aug. 21\nCulinary Institute of the South Lobby \n9:30 a.m. to Noon\, Thurs.\, Aug. 22\nHampton Campus Lobby \nLearn More About: \n\nFederal Work Study\nTCL Wellness Programs\nMilitary & Veterans Resources\nThe College Store\nTutoring & More!\n\n  \nQuestions? Contact Bree Cromer\nat 843.525.8312 or bcromer@tcl.edu
URL:https://tcl.staging.wp.collegeinbound.com/event/welcome-week-pop-up-beaufort-2/
END:VEVENT
BEGIN:VEVENT
DTSTART;TZID=UTC:20260424T094743
DTEND;TZID=UTC:20260424T094743
DTSTAMP:20260424T094743
CREATED:20241007T205935Z
LAST-MODIFIED:20241007T205935Z
UID:10001272-0-0@tcl.staging.wp.collegeinbound.com
SUMMARY:Welcome Week Pop Up—New River
DESCRIPTION:Pop on by for some popcorn\, and chat with staff and TCL Student Ambassadors to get to know more about your TCL campus! Campus tours will also be offered. \n11 a.m. to 1 p.m.\, Mon.\, Aug. 19\nBldg. 12 Student Center Patio\,\nBeaufort Mather Campus \n11 a.m. to 1 p.m.\, Tues.\, Aug. 20\nNew River Campus Lobby \n11 a.m. to 1 p.m.\, Wed.\, Aug. 21\nCulinary Institute of the South Lobby \n9:30 a.m. to Noon\, Thurs.\, Aug. 22\nHampton Campus Lobby \nLearn More About: \n\nFederal Work Study\nTCL Wellness Programs\nMilitary & Veterans Resources\nThe College Store\nTutoring & More!\n\n  \nQuestions? Contact Bree Cromer\nat 843.525.8312 or bcromer@tcl.edu
URL:https://tcl.staging.wp.collegeinbound.com/event/welcome-week-pop-up-new-river-2/
END:VEVENT
BEGIN:VEVENT
DTSTART;TZID=UTC:20260424T094743
DTEND;TZID=UTC:20260424T094743
DTSTAMP:20260424T094743
CREATED:20241007T205935Z
LAST-MODIFIED:20241007T205935Z
UID:10001273-0-0@tcl.staging.wp.collegeinbound.com
SUMMARY:Welcome Week Pop Up—Culinary Institute
DESCRIPTION:Pop on by for some popcorn\, and chat with staff and TCL Student Ambassadors to get to know more about your TCL campus! Campus tours will also be offered. \n11 a.m. to 1 p.m.\, Mon.\, Aug. 19\nBldg. 12 Student Center Patio\,\nBeaufort Mather Campus \n11 a.m. to 1 p.m.\, Tues.\, Aug. 20\nNew River Campus Lobby \n11 a.m. to 1 p.m.\, Wed.\, Aug. 21\nCulinary Institute of the South Lobby \n9:30 a.m. to Noon\, Thurs.\, Aug. 22\nHampton Campus Lobby \nLearn More About: \n\nFederal Work Study\nTCL Wellness Programs\nMilitary & Veterans Resources\nThe College Store\nTutoring & More!\n\n  \nQuestions? Contact Bree Cromer\nat 843.525.8312 or bcromer@tcl.edu
URL:https://tcl.staging.wp.collegeinbound.com/event/welcome-week-pop-up-culinary-institute-2/
END:VEVENT
BEGIN:VEVENT
DTSTART;TZID=UTC:20260424T094743
DTEND;TZID=UTC:20260424T094743
DTSTAMP:20260424T094743
CREATED:20241007T205934Z
LAST-MODIFIED:20241007T205934Z
UID:10001268-0-0@tcl.staging.wp.collegeinbound.com
SUMMARY:TCL Closed July 4th
DESCRIPTION:TCL offices and campuses will be closed Thursday in observance of the July Fourth holiday.
URL:https://tcl.staging.wp.collegeinbound.com/event/tcl-closed-july-4th-2/
END:VEVENT
BEGIN:VEVENT
DTSTART;TZID=UTC:20260424T094743
DTEND;TZID=UTC:20260424T094743
DTSTAMP:20260424T094743
CREATED:20241007T205934Z
LAST-MODIFIED:20241007T205934Z
UID:10001266-0-0@tcl.staging.wp.collegeinbound.com
SUMMARY:Memorial Day Observance. TCL closed.
DESCRIPTION:TCL is closed all day\, Monday\, May 27 in observance of Memorial Day.
URL:https://tcl.staging.wp.collegeinbound.com/event/memorial-day-observance-tcl-closed-2/
END:VEVENT
BEGIN:VEVENT
DTSTART;TZID=UTC:20260424T094743
DTEND;TZID=UTC:20260424T094743
DTSTAMP:20260424T094743
CREATED:20241007T205934Z
LAST-MODIFIED:20241007T205934Z
UID:10001267-0-0@tcl.staging.wp.collegeinbound.com
SUMMARY:Summer Food Drive
DESCRIPTION:Now that summer is here\, Help of Beaufort is experiencing a critical shortage of items in their food pantry. \nBring nonperishable food items for donation and drop off in the marked boxes just inside the entrances of Building 2 and Building 12 on the Beaufort Mather Campus\, and lobby of the New River Campus. \nMost Needed Items: \n\nCanned fruits & vegetables\nSpaghetti sauce products\nCanned meats\nSoups\nBeans\nHealthy drinks & snacks\nCondiments\nBottled water\n\nOpen to all who wish to participate!
URL:https://tcl.staging.wp.collegeinbound.com/event/summer-food-drive-2/
END:VEVENT
BEGIN:VEVENT
DTSTART;TZID=UTC:20260424T094743
DTEND;TZID=UTC:20260424T094743
DTSTAMP:20260424T094743
CREATED:20241007T205933Z
LAST-MODIFIED:20241007T205933Z
UID:10001265-0-0@tcl.staging.wp.collegeinbound.com
SUMMARY:Walk for Mental Health Awareness
DESCRIPTION: All employees and students are invited to participate.  Food will be available for purchase at our Beaufort\, New River and Hampton campus locations from 11 a.m. to 1 p.m.  Fly Pies will be on Beaufort Campus\, lunch boxes will be available from the Clist Cafe on the New River Campus\, and Big John BBQ will be on Hampton Campus.  Please see menus linked at the bottom of this page.
URL:https://tcl.staging.wp.collegeinbound.com/event/walk-for-mental-health-awareness-2/
END:VEVENT
BEGIN:VEVENT
DTSTART;TZID=UTC:20260424T094743
DTEND;TZID=UTC:20260424T094743
DTSTAMP:20260424T094743
CREATED:20241007T205913Z
LAST-MODIFIED:20241007T205913Z
UID:10001260-0-0@tcl.staging.wp.collegeinbound.com
SUMMARY:Double Good Popcorn Fundraiser for Mather
DESCRIPTION:The Mather Museum and Interpretive Center is holding a virtual fundraiser! \n \nThe Mather School\, besides being a part of the Reconstruction Era Network of Historical Sites\, gave Freedmen an education. The Mather Museum and Interpretive Center is raising funds to share this chapter in American history. Fifty percent of each purchase will go toward the fundraiser. \nFor details and to donate: \nhttps://popup.doublegood.com/s/hf36z60n \n 
URL:https://tcl.staging.wp.collegeinbound.com/event/double-good-popcorn-fundraiser-for-mather-2/
END:VEVENT
BEGIN:VEVENT
DTSTART;TZID=UTC:20260424T094743
DTEND;TZID=UTC:20260424T094743
DTSTAMP:20260424T094743
CREATED:20241007T205913Z
LAST-MODIFIED:20241007T205913Z
UID:10001261-0-0@tcl.staging.wp.collegeinbound.com
SUMMARY:Physical Therapist Assistant Program Pinning Ceremony
DESCRIPTION:Class of 2024\nPhysical Therapist Assistant Pinning Ceremony\n3 p.m.\, Thursday May 9\, 2024\nAuditorium\, Health Sciences Building 4 \nTCL Beaufort Mather Campus
URL:https://tcl.staging.wp.collegeinbound.com/event/physical-therapist-assistant-program-pinning-ceremony-2/
END:VEVENT
BEGIN:VEVENT
DTSTART;TZID=UTC:20260424T094743
DTEND;TZID=UTC:20260424T094743
DTSTAMP:20260424T094743
CREATED:20241007T205913Z
LAST-MODIFIED:20241007T205913Z
UID:10001262-0-0@tcl.staging.wp.collegeinbound.com
SUMMARY:Groundbreaking for the Arthur E. Brown Regional Workforce Training Center
DESCRIPTION:The event will be livestreamed on the Beaufort County Channel.
URL:https://tcl.staging.wp.collegeinbound.com/event/groundbreaking-for-the-arthur-e-brown-regional-workforce-training-center-2/
END:VEVENT
END:VCALENDAR